BEGIN:VCALENDAR
VERSION:2.0
PRODID:-//ZContent.net//ZapCalLib 1.0//EN
CALSCALE:GREGORIAN
METHOD:PUBLISH
BEGIN:VEVENT
SUMMARY:Die Zerstörung von Mensch und Welt im Zeitalter der 4. Industriell
 en Revolution | 40 Jahre »Die Antiquiertheit des Menschen« von Günther 
 Anders
DTSTART:20220520T180000
DTEND:20220521T203000
UID:2026-04-19-21-02-28-0-@calendar.boell.de
DTSTAMP:20260419T190228
DESCRIPTION:▶ Siehe Veranstaltungsbeschreibung – Heinrich Böll Stiftun
 g Baden-Württemberg
END:VEVENT
END:VCALENDAR
