BEGIN:VCALENDAR
VERSION:2.0
PRODID:-//ZContent.net//ZapCalLib 1.0//EN
CALSCALE:GREGORIAN
METHOD:PUBLISH
BEGIN:VEVENT
SUMMARY:Erinnerung unter besonderen Vorzeichen | Europäische Aktionswochen
  für eine Zukunft nach Tschernobyl und Fukushima
DTSTART:20220426T190000
DTEND:20220426T210000
UID:2026-04-21-10-23-05-0-@calendar.boell.de
DTSTAMP:20260421T082305
DESCRIPTION:Heinrich-Böll-Stiftung Schleswig-Holstein – Kiel – 
END:VEVENT
END:VCALENDAR
