BEGIN:VCALENDAR
VERSION:2.0
PRODID:-//ZContent.net//ZapCalLib 1.0//EN
CALSCALE:GREGORIAN
METHOD:PUBLISH
BEGIN:VEVENT
SUMMARY:The Green Deal after the “Zeitenwende”
DTSTART:20220503T180000
DTEND:20220503T193000
UID:2026-04-21-22-27-25-0-@calendar.boell.de
DTSTAMP:20260421T202725
DESCRIPTION:▶ Livestream auf boell.de/stream – Heinrich-Böll-Stiftung 
 - Bundesstiftung Berlin
END:VEVENT
END:VCALENDAR
