BEGIN:VCALENDAR
VERSION:2.0
PRODID:-//ZContent.net//ZapCalLib 1.0//EN
CALSCALE:GREGORIAN
METHOD:PUBLISH
BEGIN:VEVENT
SUMMARY:Rabiye Kurnaz gegen George W. Bush  | in Anwesenheit des Regisseurs
  Andreas Dresen und des Anwalts der Familie Kurnaz Bernhard Docke
DTSTART:20220501T170000
DTEND:20220501T200000
UID:2026-04-21-22-26-58-0-@calendar.boell.de
DTSTAMP:20260421T202658
DESCRIPTION:▶ Siehe Veranstaltungsbeschreibung – Hannover – Stiftung 
 Leben & Umwelt / Heinrich-Böll-Stiftung Niedersachsen
END:VEVENT
END:VCALENDAR
