BEGIN:VCALENDAR
VERSION:2.0
PRODID:-//ZContent.net//ZapCalLib 1.0//EN
CALSCALE:GREGORIAN
METHOD:PUBLISH
BEGIN:VEVENT
SUMMARY:Selbstbestimmt - Für reproduktive Rechte | Lesung und Gespräch
DTSTART:20220614T190000
DTEND:20220614T210000
UID:2026-04-22-22-12-03-0-@calendar.boell.de
DTSTAMP:20260422T201203
DESCRIPTION:▶ Siehe Veranstaltungsbeschreibung – Dresden – Landesstif
 tung Sachsen (Weiterdenken)
END:VEVENT
END:VCALENDAR
