BEGIN:VCALENDAR
VERSION:2.0
PRODID:-//ZContent.net//ZapCalLib 1.0//EN
CALSCALE:GREGORIAN
METHOD:PUBLISH
BEGIN:VEVENT
SUMMARY:Die Unbeugsamen | Politik ist eine viel zu ernste Sache, um sie all
 ein den Männern zu überlassen.
DTSTART:20220614T183000
DTEND:20220614T203000
UID:2026-04-21-23-40-36-0-@calendar.boell.de
DTSTAMP:20260421T214036
DESCRIPTION:▶ Siehe Veranstaltungsbeschreibung – Nürnberg – Petra-Ke
 lly-Stiftung
END:VEVENT
END:VCALENDAR
