BEGIN:VCALENDAR
VERSION:2.0
PRODID:-//ZContent.net//ZapCalLib 1.0//EN
CALSCALE:GREGORIAN
METHOD:PUBLISH
BEGIN:VEVENT
SUMMARY:Feminismus und Kinder | Ein Blick in die französische und italieni
 sche Gegenwartsliteratur
DTSTART:20220502T180000
DTEND:20220502T193000
UID:2026-04-21-10-08-22-0-@calendar.boell.de
DTSTAMP:20260421T080822
DESCRIPTION:▶ Siehe Veranstaltungsbeschreibung – Landesstiftung Nordrhe
 in-Westfalen
END:VEVENT
END:VCALENDAR
