BEGIN:VCALENDAR
VERSION:2.0
PRODID:-//ZContent.net//ZapCalLib 1.0//EN
CALSCALE:GREGORIAN
METHOD:PUBLISH
BEGIN:VEVENT
SUMMARY:New Queer Photography. Focus on the Margins | Ausstellung
DTSTART:20220624T190000
DTEND:20220821T190000
UID:2026-04-21-23-40-47-0-@calendar.boell.de
DTSTAMP:20260421T214047
DESCRIPTION:â–¶ Siehe Veranstaltungsbeschreibung â€“ Berlin â€“ Heinrich-BÃ
 ¶ll-Stiftung: Feminism & Gender Democracy | Global Unit
END:VEVENT
END:VCALENDAR
