BEGIN:VCALENDAR
VERSION:2.0
PRODID:-//ZContent.net//ZapCalLib 1.0//EN
CALSCALE:GREGORIAN
METHOD:PUBLISH
BEGIN:VEVENT
SUMMARY:Krieg in der Ukraine, Repression in Russland
DTSTART:20220511T190000
DTEND:20220511T203000
UID:2026-04-21-22-26-37-0-@calendar.boell.de
DTSTAMP:20260421T202637
DESCRIPTION:▶ Siehe Veranstaltungsbeschreibung – Tübingen – Heinrich
  Böll Stiftung Baden-Württemberg
END:VEVENT
END:VCALENDAR
