BEGIN:VCALENDAR
VERSION:2.0
PRODID:-//ZContent.net//ZapCalLib 1.0//EN
CALSCALE:GREGORIAN
METHOD:PUBLISH
BEGIN:VEVENT
SUMMARY:Auf der Spur der Menschenrechte über die Rote Insel
DTSTART:20220619T150000
DTEND:20220619T171500
UID:2026-04-23-09-18-47-0-@calendar.boell.de
DTSTAMP:20260423T071847
DESCRIPTION:▶ Siehe Veranstaltungsbeschreibung – Landesstiftung Berlin 
 (Bildungswerk)
END:VEVENT
END:VCALENDAR
