BEGIN:VCALENDAR
VERSION:2.0
PRODID:-//ZContent.net//ZapCalLib 1.0//EN
CALSCALE:GREGORIAN
METHOD:PUBLISH
BEGIN:VEVENT
SUMMARY:Antifeminismus begegnen… aber wie?! |  Zum Umgang mit antifeminis
 tischen Äußerungen
DTSTART:20220623T100000
DTEND:20220623T170000
UID:2026-04-21-22-27-17-0-@calendar.boell.de
DTSTAMP:20260421T202717
DESCRIPTION:Heinrich-Böll-Stiftung - Bundesstiftung Berlin – Berlin – 
 Gunda-Werner-Institut für Feminismus und Geschlechterdemokratie
END:VEVENT
END:VCALENDAR
