BEGIN:VCALENDAR
VERSION:2.0
PRODID:-//ZContent.net//ZapCalLib 1.0//EN
CALSCALE:GREGORIAN
METHOD:PUBLISH
BEGIN:VEVENT
SUMMARY:Fit für kommunale Führung | Gestärkt, sicher und selbstbewusst a
 n die Verwaltungsspitze
DTSTART:20220730T100000
DTEND:20220730T170000
UID:2026-04-21-19-14-22-0-@calendar.boell.de
DTSTAMP:20260421T171422
DESCRIPTION:▶ Siehe Veranstaltungsbeschreibung – Heinrich Böll Stiftun
 g Baden-Württemberg
END:VEVENT
END:VCALENDAR
