BEGIN:VCALENDAR
VERSION:2.0
PRODID:-//ZContent.net//ZapCalLib 1.0//EN
CALSCALE:GREGORIAN
METHOD:PUBLISH
BEGIN:VEVENT
SUMMARY:Begehung mit Workshop: Babys machen? | "Eizellspende" und Reprodukt
 ionspolitiken 
DTSTART:20220628T183000
DTEND:20220628T200000
UID:2026-04-24-02-47-51-0-@calendar.boell.de
DTSTAMP:20260424T004751
DESCRIPTION:Heinrich-Böll-Stiftung - Bundesstiftung Berlin – Berlin – 
 Gunda-Werner-Institut für Feminismus und Geschlechterdemokratie
END:VEVENT
END:VCALENDAR
