BEGIN:VCALENDAR
VERSION:2.0
PRODID:-//ZContent.net//ZapCalLib 1.0//EN
CALSCALE:GREGORIAN
METHOD:PUBLISH
BEGIN:VEVENT
SUMMARY:Lew Kopelew und Heinrich Böll | Kommentierte Lesung mit Elsbeth Zy
 lla u. a.
DTSTART:20220608T190000
DTEND:20220608T203000
UID:2026-04-22-12-58-21-0-@calendar.boell.de
DTSTAMP:20260422T105821
DESCRIPTION:▶ Siehe Veranstaltungsbeschreibung – Düsseldorf – Landes
 stiftung Nordrhein-Westfalen
END:VEVENT
END:VCALENDAR
