BEGIN:VCALENDAR
VERSION:2.0
PRODID:-//ZContent.net//ZapCalLib 1.0//EN
CALSCALE:GREGORIAN
METHOD:PUBLISH
BEGIN:VEVENT
SUMMARY:Erika und Klaus Mann-Abend | Eine szenische Lesung
DTSTART:20220603T193000
DTEND:20220603T203000
UID:2026-04-19-18-43-56-0-@calendar.boell.de
DTSTAMP:20260419T164356
DESCRIPTION:▶ Siehe Veranstaltungsbeschreibung – Lübeck – Landesstif
 tung Schleswig-Holstein
END:VEVENT
END:VCALENDAR
