BEGIN:VCALENDAR
VERSION:2.0
PRODID:-//ZContent.net//ZapCalLib 1.0//EN
CALSCALE:GREGORIAN
METHOD:PUBLISH
BEGIN:VEVENT
SUMMARY:Und was machen wir jetzt? (ausgebucht/Warteliste) | In Krisen richt
 ig kommunizieren
DTSTART:20221116T160000
DTEND:20221116T193000
UID:2026-04-22-00-06-54-0-@calendar.boell.de
DTSTAMP:20260421T220654
DESCRIPTION:▶ Siehe Veranstaltungsbeschreibung – Düsseldorf – Landes
 stiftung Nordrhein-Westfalen
END:VEVENT
END:VCALENDAR
