BEGIN:VCALENDAR
VERSION:2.0
PRODID:-//ZContent.net//ZapCalLib 1.0//EN
CALSCALE:GREGORIAN
METHOD:PUBLISH
BEGIN:VEVENT
SUMMARY:Wie werden wir sichtbarer in der Öffentlichkeit? (ausgebucht/Warte
 liste) | Grundlagen der Presse- und Öffentlichkeitsarbeit für Verbände,
  Vereine und Parteien
DTSTART:20221102T090000
DTEND:20221103T143000
UID:2026-04-22-04-06-44-0-@calendar.boell.de
DTSTAMP:20260422T020644
DESCRIPTION:▶ Siehe Veranstaltungsbeschreibung – Düsseldorf – Landes
 stiftung Nordrhein-Westfalen
END:VEVENT
END:VCALENDAR
