BEGIN:VCALENDAR
VERSION:2.0
PRODID:-//ZContent.net//ZapCalLib 1.0//EN
CALSCALE:GREGORIAN
METHOD:PUBLISH
BEGIN:VEVENT
SUMMARY:Plurale Ökonomik unter der Lupe: Digitale Herbstakademie (ausgebuc
 ht/Warteliste) | Wirtschaften mit Zukunft unter Einhaltung der planetaren 
 Grenzen und des globalen Gemeinwohls
DTSTART:20221125T180000
DTEND:20221126T160000
UID:2026-04-23-04-24-04-0-@calendar.boell.de
DTSTAMP:20260423T022404
DESCRIPTION:▶ Siehe Veranstaltungsbeschreibung – Düsseldorf – Landes
 stiftung Nordrhein-Westfalen
END:VEVENT
END:VCALENDAR
