BEGIN:VCALENDAR
VERSION:2.0
PRODID:-//ZContent.net//ZapCalLib 1.0//EN
CALSCALE:GREGORIAN
METHOD:PUBLISH
BEGIN:VEVENT
SUMMARY:Sanktionen gegen den russischen Angriefskrieg | Hart aber wirkungsl
 os?
DTSTART:20220627T190000
DTEND:20220627T203000
UID:2026-04-20-22-55-57-0-@calendar.boell.de
DTSTAMP:20260420T205557
DESCRIPTION:▶ Online-Veranstaltung – Landesstiftung Hessen
END:VEVENT
END:VCALENDAR
