BEGIN:VCALENDAR
VERSION:2.0
PRODID:-//ZContent.net//ZapCalLib 1.0//EN
CALSCALE:GREGORIAN
METHOD:PUBLISH
BEGIN:VEVENT
SUMMARY:Auf der Spur der Menschenrechte über die Rote Insel
DTSTART:20220806T150000
DTEND:20220806T171500
UID:2026-04-22-04-06-36-0-@calendar.boell.de
DTSTAMP:20260422T020636
DESCRIPTION:▶ Siehe Veranstaltungsbeschreibung – Landesstiftung Berlin 
 (Bildungswerk)
END:VEVENT
END:VCALENDAR
