BEGIN:VCALENDAR
VERSION:2.0
PRODID:-//ZContent.net//ZapCalLib 1.0//EN
CALSCALE:GREGORIAN
METHOD:PUBLISH
BEGIN:VEVENT
SUMMARY:Iss was?  | Welchen Einfluss meine Ernährung auf den Klimawandel h
 at
DTSTART:20220708T160000
DTEND:20220708T190000
UID:2026-04-22-03-02-00-0-@calendar.boell.de
DTSTAMP:20260422T010200
DESCRIPTION:▶ Siehe Veranstaltungsbeschreibung – Leipzig – Landesstif
 tung Sachsen (Weiterdenken)
END:VEVENT
END:VCALENDAR
