BEGIN:VCALENDAR
VERSION:2.0
PRODID:-//ZContent.net//ZapCalLib 1.0//EN
CALSCALE:GREGORIAN
METHOD:PUBLISH
BEGIN:VEVENT
SUMMARY:Welcome not Welcome | Ein kritischer Überblick über die Flüchtli
 ngs- und Migrationspolitik der EU
DTSTART:20220820T093000
DTEND:20220821T160000
UID:2026-04-24-09-42-13-0-@calendar.boell.de
DTSTAMP:20260424T074213
DESCRIPTION:▶ Siehe Veranstaltungsbeschreibung – Berlin – Landesstift
 ung Berlin (Bildungswerk)
END:VEVENT
END:VCALENDAR
