BEGIN:VCALENDAR
VERSION:2.0
PRODID:-//ZContent.net//ZapCalLib 1.0//EN
CALSCALE:GREGORIAN
METHOD:PUBLISH
BEGIN:VEVENT
SUMMARY:#StolenMemory | Ausstellung über den systematischen Raub der Besit
 ztümer von KZ-Inhaftierten während der NS-Zeit und deren Rückgabe
DTSTART:20220701T151332
DTEND:20220719T161332
UID:2026-04-21-13-57-01-0-@calendar.boell.de
DTSTAMP:20260421T115701
DESCRIPTION:▶ Siehe Veranstaltungsbeschreibung – Bremen – Landesstift
 ung Bremen
END:VEVENT
END:VCALENDAR
