BEGIN:VCALENDAR
VERSION:2.0
PRODID:-//ZContent.net//ZapCalLib 1.0//EN
CALSCALE:GREGORIAN
METHOD:PUBLISH
BEGIN:VEVENT
SUMMARY:"Wilhelm wie sieht der Wald wieder aus!" | Lesung und Gespräch in 
 der Reihe Stadt, Land, Wald
DTSTART:20220905T190000
DTEND:20220905T210000
UID:2026-04-19-18-43-53-0-@calendar.boell.de
DTSTAMP:20260419T164353
DESCRIPTION:▶ Siehe Veranstaltungsbeschreibung – Erfurt – Landesstift
 ung Thüringen
END:VEVENT
END:VCALENDAR
