BEGIN:VCALENDAR
VERSION:2.0
PRODID:-//ZContent.net//ZapCalLib 1.0//EN
CALSCALE:GREGORIAN
METHOD:PUBLISH
BEGIN:VEVENT
SUMMARY:„Da seh ich aber weiß.“ Oder was Rassismus mit mir zu tun hat.
  | Kritisches Weißsein im Alltag, Beruf und im Privaten
DTSTART:20220930T150000
DTEND:20221001T150000
UID:2026-04-24-09-42-06-0-@calendar.boell.de
DTSTAMP:20260424T074206
DESCRIPTION:▶ Siehe Veranstaltungsbeschreibung – Berlin – Landesstift
 ung Berlin (Bildungswerk)
END:VEVENT
END:VCALENDAR
