BEGIN:VCALENDAR
VERSION:2.0
PRODID:-//ZContent.net//ZapCalLib 1.0//EN
CALSCALE:GREGORIAN
METHOD:PUBLISH
BEGIN:VEVENT
SUMMARY:Überzeugend sprechen vor Gruppen | Rhetoriktraining
DTSTART:20221022T100000
DTEND:20221022T170000
UID:2026-04-21-19-52-07-0-@calendar.boell.de
DTSTAMP:20260421T175207
DESCRIPTION:▶ Siehe Veranstaltungsbeschreibung – Heinrich Böll Stiftun
 g Baden-Württemberg
END:VEVENT
END:VCALENDAR
