BEGIN:VCALENDAR
VERSION:2.0
PRODID:-//ZContent.net//ZapCalLib 1.0//EN
CALSCALE:GREGORIAN
METHOD:PUBLISH
BEGIN:VEVENT
SUMMARY:Verkehrswende jetzt gemeinsam in die Hand nehmen - Praktisch und ko
 nkret: Ein Workshop bunter und kreativer Aktionsideen | Workshop im Rahmen
  der Political Art Days
DTSTART:20220909T163000
DTEND:20220909T183000
UID:2026-04-21-19-59-51-0-@calendar.boell.de
DTSTAMP:20260421T175951
DESCRIPTION:▶ Siehe Veranstaltungsbeschreibung – Dresden – Landesstif
 tung Sachsen (Weiterdenken)
END:VEVENT
END:VCALENDAR
