BEGIN:VCALENDAR
VERSION:2.0
PRODID:-//ZContent.net//ZapCalLib 1.0//EN
CALSCALE:GREGORIAN
METHOD:PUBLISH
BEGIN:VEVENT
SUMMARY:Pack aus - Plastik, Müll & ich | Ausstellung Magdeburg
DTSTART:20220909T100000
DTEND:20220930T190000
UID:2026-04-22-06-32-48-0-@calendar.boell.de
DTSTAMP:20260422T043248
DESCRIPTION:▶ Siehe Veranstaltungsbeschreibung – Magdeburg – Landesst
 iftung Sachsen-Anhalt
END:VEVENT
END:VCALENDAR
