BEGIN:VCALENDAR
VERSION:2.0
PRODID:-//ZContent.net//ZapCalLib 1.0//EN
CALSCALE:GREGORIAN
METHOD:PUBLISH
BEGIN:VEVENT
SUMMARY:„Pack aus! Plastik, Müll & ich“ | Ausstellung und Workshop an 
 verschiedenen Orten in Hamburg
DTSTART:20220818T173000
DTEND:20221031T160000
UID:2026-04-21-15-23-01-0-@calendar.boell.de
DTSTAMP:20260421T132301
DESCRIPTION:▶ Siehe Veranstaltungsbeschreibung – Hamburg – Landesstif
 tung Hamburg
END:VEVENT
END:VCALENDAR
