BEGIN:VCALENDAR
VERSION:2.0
PRODID:-//ZContent.net//ZapCalLib 1.0//EN
CALSCALE:GREGORIAN
METHOD:PUBLISH
BEGIN:VEVENT
SUMMARY:Mackern entgegnen - Eine feministische Theater Workshopreihe
DTSTART:20220914T180000
DTEND:20220914T200000
UID:2026-04-21-15-22-24-0-@calendar.boell.de
DTSTAMP:20260421T132224
DESCRIPTION:▶ Siehe Veranstaltungsbeschreibung – Petra-Kelly-Stiftung
END:VEVENT
END:VCALENDAR
