BEGIN:VCALENDAR
VERSION:2.0
PRODID:-//ZContent.net//ZapCalLib 1.0//EN
CALSCALE:GREGORIAN
METHOD:PUBLISH
BEGIN:VEVENT
SUMMARY:Storyfeld Erfurt - Gemeinsam: unsere Identitäten // Our collective
  identities | Frage:  Aus wie vielen "Ichs" besteht Ihre Identität? / Ein
  Dialog in Geschichten zu den Themen unserer Zeit
DTSTART:20221014T180000
DTEND:20221014T203000
UID:2026-04-21-15-23-04-0-@calendar.boell.de
DTSTAMP:20260421T132304
DESCRIPTION:▶ Siehe Veranstaltungsbeschreibung – 
END:VEVENT
END:VCALENDAR
