BEGIN:VCALENDAR
VERSION:2.0
PRODID:-//ZContent.net//ZapCalLib 1.0//EN
CALSCALE:GREGORIAN
METHOD:PUBLISH
BEGIN:VEVENT
SUMMARY:Die Stadt sozial und ökologisch umbauen | Tag 2 des Stadtentwicklu
 ngs-Camps: Input-Vorträge, Barcamp und Diskussion mit Maike Schaefer 
DTSTART:20220924T140000
DTEND:20220924T183000
UID:2026-04-21-10-08-34-0-@calendar.boell.de
DTSTAMP:20260421T080834
DESCRIPTION:▶ Siehe Veranstaltungsbeschreibung – Bremen – Landesstift
 ung Bremen
END:VEVENT
END:VCALENDAR
