BEGIN:VCALENDAR
VERSION:2.0
PRODID:-//ZContent.net//ZapCalLib 1.0//EN
CALSCALE:GREGORIAN
METHOD:PUBLISH
BEGIN:VEVENT
SUMMARY:Kino am Meer: Among us Women | Film & Gespräch
DTSTART:20220826T203000
DTEND:20220826T223000
UID:2026-04-21-15-22-41-0-@calendar.boell.de
DTSTAMP:20260421T132241
DESCRIPTION:▶ Siehe Veranstaltungsbeschreibung – Landesstiftung Mecklen
 burg-Vorpommern
END:VEVENT
END:VCALENDAR
