BEGIN:VCALENDAR
VERSION:2.0
PRODID:-//ZContent.net//ZapCalLib 1.0//EN
CALSCALE:GREGORIAN
METHOD:PUBLISH
BEGIN:VEVENT
SUMMARY:Wirkungsvoll reden lernen! | Übung macht die Meister*in
DTSTART:20221105T110000
DTEND:20221106T180000
UID:2026-04-20-11-03-30-0-@calendar.boell.de
DTSTAMP:20260420T090330
DESCRIPTION:▶ Siehe Veranstaltungsbeschreibung – Berlin – Landesstift
 ung Berlin (Bildungswerk)
END:VEVENT
END:VCALENDAR
