BEGIN:VCALENDAR
VERSION:2.0
PRODID:-//ZContent.net//ZapCalLib 1.0//EN
CALSCALE:GREGORIAN
METHOD:PUBLISH
BEGIN:VEVENT
SUMMARY:Training für eine starke Kommunalpolitik | Gut vorbereitet auf Has
 s und Bedrohung in Amt und Privatleben 
DTSTART:20230207T180000
DTEND:20230207T203000
UID:2026-04-21-15-23-01-0-@calendar.boell.de
DTSTAMP:20260421T132301
DESCRIPTION:▶ Online-Veranstaltung – Petra-Kelly-Stiftung
END:VEVENT
END:VCALENDAR
