BEGIN:VCALENDAR
VERSION:2.0
PRODID:-//ZContent.net//ZapCalLib 1.0//EN
CALSCALE:GREGORIAN
METHOD:PUBLISH
BEGIN:VEVENT
SUMMARY:Parlamentswahlen in Italien: Droht wirklich eine Regierung der Rech
 ten?
DTSTART:20220919T160000
DTEND:20220919T170000
UID:2026-04-22-06-59-50-0-@calendar.boell.de
DTSTAMP:20260422T045950
DESCRIPTION:▶ Online-Veranstaltung – Petra-Kelly-Stiftung
END:VEVENT
END:VCALENDAR
