BEGIN:VCALENDAR
VERSION:2.0
PRODID:-//ZContent.net//ZapCalLib 1.0//EN
CALSCALE:GREGORIAN
METHOD:PUBLISH
BEGIN:VEVENT
SUMMARY:Persisch - Eine Einführung | mit Kulturwochen - der andere Blick
DTSTART:20221006T180000
DTEND:20221006T193000
UID:2026-04-22-23-14-36-0-@calendar.boell.de
DTSTAMP:20260422T211436
DESCRIPTION:▶ Siehe Veranstaltungsbeschreibung – Kiel – Landesstiftun
 g Schleswig-Holstein
END:VEVENT
END:VCALENDAR
