BEGIN:VCALENDAR
VERSION:2.0
PRODID:-//ZContent.net//ZapCalLib 1.0//EN
CALSCALE:GREGORIAN
METHOD:PUBLISH
BEGIN:VEVENT
SUMMARY:Herausforderungen, Diskriminierung und Widerstand von iranischen LG
 BTQ+-Künstler*innen | mit Kulturwochen - der andere Blick
DTSTART:20221118T190000
DTEND:20221118T210000
UID:2026-04-26-05-22-06-0-@calendar.boell.de
DTSTAMP:20260426T032206
DESCRIPTION:▶ Siehe Veranstaltungsbeschreibung – Kiel – Landesstiftun
 g Schleswig-Holstein
END:VEVENT
END:VCALENDAR
