BEGIN:VCALENDAR
VERSION:2.0
PRODID:-//ZContent.net//ZapCalLib 1.0//EN
CALSCALE:GREGORIAN
METHOD:PUBLISH
BEGIN:VEVENT
SUMMARY:Die kurdische Frage in der Türkei | Über die gewaltsame Durchsetz
 ung von Nationalstaatlichkeit
DTSTART:20221012T190000
DTEND:20221012T210000
UID:2026-04-21-19-59-59-0-@calendar.boell.de
DTSTAMP:20260421T175959
DESCRIPTION:Landesstiftung Hessen
END:VEVENT
END:VCALENDAR
