BEGIN:VCALENDAR
VERSION:2.0
PRODID:-//ZContent.net//ZapCalLib 1.0//EN
CALSCALE:GREGORIAN
METHOD:PUBLISH
BEGIN:VEVENT
SUMMARY:Im Fokus der Kamera. Fotografien aus dem Getto Lodz.
DTSTART:20221013T190000
DTEND:20221013T203000
UID:2026-04-21-15-23-02-0-@calendar.boell.de
DTSTAMP:20260421T132302
DESCRIPTION:▶ Siehe Veranstaltungsbeschreibung – Berlin – Landesstift
 ung Berlin (Bildungswerk)
END:VEVENT
END:VCALENDAR
