BEGIN:VCALENDAR
VERSION:2.0
PRODID:-//ZContent.net//ZapCalLib 1.0//EN
CALSCALE:GREGORIAN
METHOD:PUBLISH
BEGIN:VEVENT
SUMMARY:DIMENSION of FUTURE | Ausstellung der PerspektivRegion
DTSTART:20220925T000000
DTEND:20221030T230000
UID:2026-04-22-07-47-30-0-@calendar.boell.de
DTSTAMP:20260422T054730
DESCRIPTION:▶ Siehe Veranstaltungsbeschreibung – Kiel – Landesstiftun
 g Schleswig-Holstein
END:VEVENT
END:VCALENDAR
