BEGIN:VCALENDAR
VERSION:2.0
PRODID:-//ZContent.net//ZapCalLib 1.0//EN
CALSCALE:GREGORIAN
METHOD:PUBLISH
BEGIN:VEVENT
SUMMARY:Monodrama & Gespräch: „Krieg, stell dir vor er wäre hier!“
DTSTART:20220915T191500
DTEND:20220915T203000
UID:2026-04-21-19-14-19-0-@calendar.boell.de
DTSTAMP:20260421T171419
DESCRIPTION:▶ Siehe Veranstaltungsbeschreibung – Greifswald – Landess
 tiftung Mecklenburg-Vorpommern
END:VEVENT
END:VCALENDAR
