BEGIN:VCALENDAR
VERSION:2.0
PRODID:-//ZContent.net//ZapCalLib 1.0//EN
CALSCALE:GREGORIAN
METHOD:PUBLISH
BEGIN:VEVENT
SUMMARY:Von A wie Aluhut bis Z wie Zwangsimpfungen | Ein praxisorientiertes
  Seminar zum Umgang mit Verschwörungserzählungen
DTSTART:20221111T170000
DTEND:20221112T160000
UID:2026-04-22-06-59-53-0-@calendar.boell.de
DTSTAMP:20260422T045953
DESCRIPTION:▶ Siehe Veranstaltungsbeschreibung – Berlin – Landesstift
 ung Berlin (Bildungswerk)
END:VEVENT
END:VCALENDAR
