BEGIN:VCALENDAR
VERSION:2.0
PRODID:-//ZContent.net//ZapCalLib 1.0//EN
CALSCALE:GREGORIAN
METHOD:PUBLISH
BEGIN:VEVENT
SUMMARY:Der Tod backt einen Geburtstagskuchen – Lesung mit Hamed Abboud
DTSTART:20221008T190000
DTEND:20221008T210000
UID:2026-04-22-04-06-46-0-@calendar.boell.de
DTSTAMP:20260422T020646
DESCRIPTION:▶ Siehe Veranstaltungsbeschreibung – Altenburg – Landesst
 iftung Thüringen
END:VEVENT
END:VCALENDAR
