BEGIN:VCALENDAR
VERSION:2.0
PRODID:-//ZContent.net//ZapCalLib 1.0//EN
CALSCALE:GREGORIAN
METHOD:PUBLISH
BEGIN:VEVENT
SUMMARY:Support und Solidarität an den östlichen Grenzen Polens | Kurzfil
 m & Gespräch mit polnischen Aktivist*innen
DTSTART:20221008T180000
DTEND:20221008T200000
UID:2026-04-22-12-22-29-0-@calendar.boell.de
DTSTAMP:20260422T102229
DESCRIPTION:▶ Siehe Veranstaltungsbeschreibung – Landesstiftung Berlin 
 (Bildungswerk)
END:VEVENT
END:VCALENDAR
