BEGIN:VCALENDAR
VERSION:2.0
PRODID:-//ZContent.net//ZapCalLib 1.0//EN
CALSCALE:GREGORIAN
METHOD:PUBLISH
BEGIN:VEVENT
SUMMARY:INTER* - Leben zwischen den Geschlechtern | Szenische Lesung von Fr
 l. Wunder AG & Intergeschlechtliche Menschen e.V.
DTSTART:20221112T160000
DTEND:20221112T173000
UID:2026-04-22-22-11-59-0-@calendar.boell.de
DTSTAMP:20260422T201159
DESCRIPTION:▶ Siehe Veranstaltungsbeschreibung – Hannover – Stiftung 
 Leben & Umwelt / Heinrich-Böll-Stiftung Niedersachsen
END:VEVENT
END:VCALENDAR
