BEGIN:VCALENDAR
VERSION:2.0
PRODID:-//ZContent.net//ZapCalLib 1.0//EN
CALSCALE:GREGORIAN
METHOD:PUBLISH
BEGIN:VEVENT
SUMMARY:INTER* - Leben zwischen den Geschlechtern | Szenische Lesung von Fr
 l. Wunder AG & Intergeschlechtliche Menschen e.V.
DTSTART:20221113T190000
DTEND:20221113T203000
UID:2026-04-23-17-55-04-0-@calendar.boell.de
DTSTAMP:20260423T155504
DESCRIPTION:▶ Siehe Veranstaltungsbeschreibung – Oldenburg – 
END:VEVENT
END:VCALENDAR
