BEGIN:VCALENDAR
VERSION:2.0
PRODID:-//ZContent.net//ZapCalLib 1.0//EN
CALSCALE:GREGORIAN
METHOD:PUBLISH
BEGIN:VEVENT
SUMMARY:Der große Krieg und die Frauen | Eine theatrale Collage
DTSTART:20221007T190000
DTEND:20221007T203000
UID:2026-04-21-12-46-01-0-@calendar.boell.de
DTSTAMP:20260421T104601
DESCRIPTION:▶ Siehe Veranstaltungsbeschreibung – Frankfurt (Main) – L
 andesstiftung Hessen
END:VEVENT
END:VCALENDAR
