BEGIN:VCALENDAR
VERSION:2.0
PRODID:-//ZContent.net//ZapCalLib 1.0//EN
CALSCALE:GREGORIAN
METHOD:PUBLISH
BEGIN:VEVENT
SUMMARY:Klimafreundliche Ernährung | Klima.Wandeln.Hier - Impuls und Disku
 ssion des Klimaentscheids Lüneburg
DTSTART:20221020T190000
DTEND:20221020T210000
UID:2026-04-20-01-05-43-0-@calendar.boell.de
DTSTAMP:20260419T230543
DESCRIPTION:▶ Siehe Veranstaltungsbeschreibung – Lüneburg – Stiftung
  Leben & Umwelt / Heinrich-Böll-Stiftung Niedersachsen
END:VEVENT
END:VCALENDAR
