BEGIN:VCALENDAR
VERSION:2.0
PRODID:-//ZContent.net//ZapCalLib 1.0//EN
CALSCALE:GREGORIAN
METHOD:PUBLISH
BEGIN:VEVENT
SUMMARY:"Mehr Fortschritt wagen?" Revisited! | Verantwortungsgemeinschaft u
 nd Elternschaft jenseits der Kleinfamilie
DTSTART:20221114T190000
DTEND:20221114T210000
UID:2026-04-22-04-06-32-0-@calendar.boell.de
DTSTAMP:20260422T020632
DESCRIPTION:▶ Siehe Veranstaltungsbeschreibung – Berlin – Landesstift
 ung Berlin (Bildungswerk)
END:VEVENT
END:VCALENDAR
